BEGIN:VCALENDAR
VERSION:2.0
PRODID:industrypartners
CALSCALE:GREGORIAN
METHOD:PUBLISH
BEGIN:VEVENT
DTSTART:20240417T093000
DTEND:20240417T153000
SUMMARY:Guide Training Workshop 
LOCATION:Briggs Woods Conference Center
DESCRIPTION:
PRIORITY:3
BEGIN:VALARM
TRIGGER:-PT15M
ACTION:DISPLAY
DESCRIPTION:Reminder
END:VALARM
UID:db09a01f-bf0b-4b99-b408-306b6138860b20260419T223000
DTSTAMP:20260419T223000
END:VEVENT
END:VCALENDAR
