BEGIN:VCALENDAR
VERSION:2.0
PRODID:industrypartners
CALSCALE:GREGORIAN
METHOD:PUBLISH
BEGIN:VEVENT
DTSTART:20240620T140000
DTEND:20240620T150000
SUMMARY:Iowa Tourism Office Update - webinar
LOCATION: Microsoft Teams Webinar
DESCRIPTION:
PRIORITY:3
BEGIN:VALARM
TRIGGER:-PT15M
ACTION:DISPLAY
DESCRIPTION:Reminder
END:VALARM
UID:565d0d39-212c-4a59-a995-a5ba52a9b0e820260419T123500
DTSTAMP:20260419T123500
END:VEVENT
END:VCALENDAR
