BEGIN:VCALENDAR
VERSION:2.0
PRODID:industrypartners
CALSCALE:GREGORIAN
METHOD:PUBLISH
BEGIN:VEVENT
DTSTART:20231102T080000
DTEND:20231102T140000
SUMMARY:CITR Travel Iowa Marketplace
LOCATION:Simpson College, Indianola
DESCRIPTION:
PRIORITY:3
BEGIN:VALARM
TRIGGER:-PT15M
ACTION:DISPLAY
DESCRIPTION:Reminder
END:VALARM
UID:284045f4-19b5-4838-9de5-bb6ca1b3e29e20260423T195000
DTSTAMP:20260423T195000
END:VEVENT
END:VCALENDAR
